BEGIN:VCALENDAR
VERSION:2.0
PRODID:-//Alcoholics Anonymous District 18 Southern Illinois - ECPv6.15.20//NONSGML v1.0//EN
CALSCALE:GREGORIAN
METHOD:PUBLISH
X-WR-CALNAME:Alcoholics Anonymous District 18 Southern Illinois
X-ORIGINAL-URL:https://aa-district18.org
X-WR-CALDESC:Events for Alcoholics Anonymous District 18 Southern Illinois
REFRESH-INTERVAL;VALUE=DURATION:PT1H
X-Robots-Tag:noindex
X-PUBLISHED-TTL:PT1H
BEGIN:VTIMEZONE
TZID:America/Chicago
BEGIN:DAYLIGHT
TZOFFSETFROM:-0600
TZOFFSETTO:-0500
TZNAME:CDT
DTSTART:20250309T080000
END:DAYLIGHT
BEGIN:STANDARD
TZOFFSETFROM:-0500
TZOFFSETTO:-0600
TZNAME:CST
DTSTART:20251102T070000
END:STANDARD
BEGIN:DAYLIGHT
TZOFFSETFROM:-0600
TZOFFSETTO:-0500
TZNAME:CDT
DTSTART:20260308T080000
END:DAYLIGHT
BEGIN:STANDARD
TZOFFSETFROM:-0500
TZOFFSETTO:-0600
TZNAME:CST
DTSTART:20261101T070000
END:STANDARD
BEGIN:DAYLIGHT
TZOFFSETFROM:-0600
TZOFFSETTO:-0500
TZNAME:CDT
DTSTART:20270314T080000
END:DAYLIGHT
BEGIN:STANDARD
TZOFFSETFROM:-0500
TZOFFSETTO:-0600
TZNAME:CST
DTSTART:20271107T070000
END:STANDARD
BEGIN:DAYLIGHT
TZOFFSETFROM:-0600
TZOFFSETTO:-0500
TZNAME:CDT
DTSTART:20280312T080000
END:DAYLIGHT
BEGIN:STANDARD
TZOFFSETFROM:-0500
TZOFFSETTO:-0600
TZNAME:CST
DTSTART:20281105T070000
END:STANDARD
END:VTIMEZONE
BEGIN:VEVENT
DTSTART;TZID=America/Chicago:20261115T140000
DTEND;TZID=America/Chicago:20261115T150000
DTSTAMP:20260424T105414
CREATED:20260106T015737Z
LAST-MODIFIED:20260106T015737Z
UID:5050-1794751200-1794754800@aa-district18.org
SUMMARY:GSR Meeting (hybrid)
DESCRIPTION:At CSO and on zoom. \nTopic: GSR Meeting (Hybrid)\nEvery month on the Third Sun \nJoin Zoom Meeting \nBy Phone-1-646-568-7788\nMeeting ID: 836 2259 5947\nPasscode: 626122 \nClick to join via phone\computer \nJoin Zoom
URL:https://aa-district18.org/event/gsr-meeting-hybrid-10/
END:VEVENT
BEGIN:VEVENT
DTSTART;TZID=America/Chicago:20261203T190000
DTEND;TZID=America/Chicago:20261203T200000
DTSTAMP:20260424T105414
CREATED:20260106T015203Z
LAST-MODIFIED:20260106T015203Z
UID:5039-1796324400-1796328000@aa-district18.org
SUMMARY:2026 Area 21 Delegate Monthly Roundtable
DESCRIPTION:Delegate Roundtable (Thursdays at 7:00 PM) \nMonthly discussion forum with your Area 21 panel 75 Delegate Jodi B.\nDiscuss what’s important in your Group\, District\, Area\, and AA. \nThis will be a recurring meeting every month on the first Thursday of the month at 7:00 PM. \nMeeting ID: 816 2718 0541\nPasscode: 512030 \nClick to Join Zoom Meeting
URL:https://aa-district18.org/event/2026-area-21-delegate-monthly-roundtable-11/
END:VEVENT
BEGIN:VEVENT
DTSTART;TZID=America/Chicago:20261220T140000
DTEND;TZID=America/Chicago:20261220T150000
DTSTAMP:20260424T105414
CREATED:20260106T015818Z
LAST-MODIFIED:20260106T015818Z
UID:5052-1797775200-1797778800@aa-district18.org
SUMMARY:GSR Meeting (hybrid)
DESCRIPTION:At CSO and on zoom. \nTopic: GSR Meeting (Hybrid)\nEvery month on the Third Sun \nJoin Zoom Meeting \nBy Phone-1-646-568-7788\nMeeting ID: 836 2259 5947\nPasscode: 626122 \nClick to join via phone\computer \nJoin Zoom
URL:https://aa-district18.org/event/gsr-meeting-hybrid-11/
END:VEVENT
BEGIN:VEVENT
DTSTART;TZID=America/Chicago:20270117T140000
DTEND;TZID=America/Chicago:20270117T150000
DTSTAMP:20260424T105414
CREATED:20260106T015857Z
LAST-MODIFIED:20260106T015857Z
UID:5054-1800194400-1800198000@aa-district18.org
SUMMARY:GSR Meeting (hybrid)
DESCRIPTION:At CSO and on zoom. \nTopic: GSR Meeting (Hybrid)\nEvery month on the Third Sun \nJoin Zoom Meeting \nBy Phone-1-646-568-7788\nMeeting ID: 836 2259 5947\nPasscode: 626122 \nClick to join via phone\computer \nJoin Zoom
URL:https://aa-district18.org/event/gsr-meeting-hybrid-12/
END:VEVENT
BEGIN:VEVENT
DTSTART;TZID=America/Chicago:20270221T140000
DTEND;TZID=America/Chicago:20270221T150000
DTSTAMP:20260424T105414
CREATED:20260106T015940Z
LAST-MODIFIED:20260106T015940Z
UID:5056-1803218400-1803222000@aa-district18.org
SUMMARY:GSR Meeting (hybrid)
DESCRIPTION:At CSO and on zoom. \nTopic: GSR Meeting (Hybrid)\nEvery month on the Third Sun \nJoin Zoom Meeting \nBy Phone-1-646-568-7788\nMeeting ID: 836 2259 5947\nPasscode: 626122 \nClick to join via phone\computer \nJoin Zoom
URL:https://aa-district18.org/event/gsr-meeting-hybrid-13/
END:VEVENT
BEGIN:VEVENT
DTSTART;TZID=America/Chicago:20270321T140000
DTEND;TZID=America/Chicago:20270321T150000
DTSTAMP:20260424T105414
CREATED:20260106T020027Z
LAST-MODIFIED:20260106T020027Z
UID:5058-1805637600-1805641200@aa-district18.org
SUMMARY:GSR Meeting (hybrid)
DESCRIPTION:At CSO and on zoom. \nTopic: GSR Meeting (Hybrid)\nEvery month on the Third Sun \nJoin Zoom Meeting \nBy Phone-1-646-568-7788\nMeeting ID: 836 2259 5947\nPasscode: 626122 \nClick to join via phone\computer \nJoin Zoom
URL:https://aa-district18.org/event/gsr-meeting-hybrid-14/
END:VEVENT
END:VCALENDAR