BEGIN:VCALENDAR
VERSION:2.0
PRODID:-//Alcoholics Anonymous District 18 Southern Illinois - ECPv6.15.20//NONSGML v1.0//EN
CALSCALE:GREGORIAN
METHOD:PUBLISH
X-WR-CALNAME:Alcoholics Anonymous District 18 Southern Illinois
X-ORIGINAL-URL:https://aa-district18.org
X-WR-CALDESC:Events for Alcoholics Anonymous District 18 Southern Illinois
REFRESH-INTERVAL;VALUE=DURATION:PT1H
X-Robots-Tag:noindex
X-PUBLISHED-TTL:PT1H
BEGIN:VTIMEZONE
TZID:America/Chicago
BEGIN:DAYLIGHT
TZOFFSETFROM:-0600
TZOFFSETTO:-0500
TZNAME:CDT
DTSTART:20250309T080000
END:DAYLIGHT
BEGIN:STANDARD
TZOFFSETFROM:-0500
TZOFFSETTO:-0600
TZNAME:CST
DTSTART:20251102T070000
END:STANDARD
BEGIN:DAYLIGHT
TZOFFSETFROM:-0600
TZOFFSETTO:-0500
TZNAME:CDT
DTSTART:20260308T080000
END:DAYLIGHT
BEGIN:STANDARD
TZOFFSETFROM:-0500
TZOFFSETTO:-0600
TZNAME:CST
DTSTART:20261101T070000
END:STANDARD
BEGIN:DAYLIGHT
TZOFFSETFROM:-0600
TZOFFSETTO:-0500
TZNAME:CDT
DTSTART:20270314T080000
END:DAYLIGHT
BEGIN:STANDARD
TZOFFSETFROM:-0500
TZOFFSETTO:-0600
TZNAME:CST
DTSTART:20271107T070000
END:STANDARD
END:VTIMEZONE
BEGIN:VEVENT
DTSTART;TZID=America/Chicago:20260328T190000
DTEND;TZID=America/Chicago:20260328T200000
DTSTAMP:20260424T133252
CREATED:20260323T205811Z
LAST-MODIFIED:20260323T205811Z
UID:5192-1774724400-1774728000@aa-district18.org
SUMMARY:Speaker Meeting St. Mary's Library Group
DESCRIPTION:Speaker: Mary Y 7pm
URL:https://aa-district18.org/event/speaker-meeting-st-marys-library-group/
LOCATION:St. Mary’s Catholic Church\, 1802 Madison Ave\, Edwardsville\, Illinois\, United States
END:VEVENT
BEGIN:VEVENT
DTSTART;TZID=America/Chicago:20260328T173000
DTEND;TZID=America/Chicago:20260328T200000
DTSTAMP:20260424T133252
CREATED:20260213T153327Z
LAST-MODIFIED:20260213T153327Z
UID:5143-1774719000-1774728000@aa-district18.org
SUMMARY:AA Illinois District 18 Activities Committee presents Movie Night
DESCRIPTION:Click for Flyer
URL:https://aa-district18.org/event/aa-illinois-district-18-activities-committee-presents-movie-night/
ATTACH;FMTTYPE=image/png:https://aa-district18.org/wp-content/uploads/2026/02/D18MovieNight.png
END:VEVENT
BEGIN:VEVENT
DTSTART;TZID=America/Chicago:20260325T190000
DTEND;TZID=America/Chicago:20260325T200000
DTSTAMP:20260424T133252
CREATED:20260315T194759Z
LAST-MODIFIED:20260315T194759Z
UID:5181-1774465200-1774468800@aa-district18.org
SUMMARY:Pre-Meeting Zoom Sessions for Pre-General Service Conference Workshop
DESCRIPTION:All Meetings Use the same ID and Passcodes \nZoom ID and Passcode                             Dial-In Audio 312-626-6799\n828 679 2120 / 2026GSC                        8282 6792 2120 / 8775336
URL:https://aa-district18.org/event/pre-meeting-zoom-sessions-for-pre-general-service-conference-workshop-4/
ATTACH;FMTTYPE=application/pdf:https://aa-district18.org/wp-content/uploads/2026/03/Pre-Meeting-zoom-session-Pre-Conference-2026-3.pdf
END:VEVENT
END:VCALENDAR