BEGIN:VCALENDAR
VERSION:2.0
PRODID:-//Alcoholics Anonymous District 18 Southern Illinois - ECPv6.15.20//NONSGML v1.0//EN
CALSCALE:GREGORIAN
METHOD:PUBLISH
X-WR-CALNAME:Alcoholics Anonymous District 18 Southern Illinois
X-ORIGINAL-URL:https://aa-district18.org
X-WR-CALDESC:Events for Alcoholics Anonymous District 18 Southern Illinois
REFRESH-INTERVAL;VALUE=DURATION:PT1H
X-Robots-Tag:noindex
X-PUBLISHED-TTL:PT1H
BEGIN:VTIMEZONE
TZID:America/Chicago
BEGIN:DAYLIGHT
TZOFFSETFROM:-0600
TZOFFSETTO:-0500
TZNAME:CDT
DTSTART:20250309T080000
END:DAYLIGHT
BEGIN:STANDARD
TZOFFSETFROM:-0500
TZOFFSETTO:-0600
TZNAME:CST
DTSTART:20251102T070000
END:STANDARD
BEGIN:DAYLIGHT
TZOFFSETFROM:-0600
TZOFFSETTO:-0500
TZNAME:CDT
DTSTART:20260308T080000
END:DAYLIGHT
BEGIN:STANDARD
TZOFFSETFROM:-0500
TZOFFSETTO:-0600
TZNAME:CST
DTSTART:20261101T070000
END:STANDARD
BEGIN:DAYLIGHT
TZOFFSETFROM:-0600
TZOFFSETTO:-0500
TZNAME:CDT
DTSTART:20270314T080000
END:DAYLIGHT
BEGIN:STANDARD
TZOFFSETFROM:-0500
TZOFFSETTO:-0600
TZNAME:CST
DTSTART:20271107T070000
END:STANDARD
END:VTIMEZONE
BEGIN:VEVENT
DTSTART;VALUE=DATE:20260619
DTEND;VALUE=DATE:20260622
DTSTAMP:20260424T132217
CREATED:20260327T200742Z
LAST-MODIFIED:20260327T200742Z
UID:5196-1781827200-1782086399@aa-district18.org
SUMMARY:Illinois District 18 Activities Committee Presents 2026 Unity Float and Camping 2026
DESCRIPTION:Click for Flyer
URL:https://aa-district18.org/event/illinois-district-18-activities-committee-presents-2026-unity-float-and-camping-2026/
LOCATION:Huzzah Valley Resort\, 970 E Hwy 8\, Steelville\, MO\, 65565\, United States
ATTACH;FMTTYPE=image/png:https://aa-district18.org/wp-content/uploads/2026/03/IL-District-18-Unity-Campe-and-Float-June-26.png
END:VEVENT
BEGIN:VEVENT
DTSTART;TZID=America/Chicago:20260621T140000
DTEND;TZID=America/Chicago:20260621T150000
DTSTAMP:20260424T132217
CREATED:20241221T171810Z
LAST-MODIFIED:20241221T171810Z
UID:4522-1782050400-1782054000@aa-district18.org
SUMMARY:GSR Meeting (hybrid)
DESCRIPTION:At CSO and on zoom. \nTopic: GSR Meeting (Hybrid)\nEvery month on the Third Sun \nJoin Zoom Meeting \nBy Phone-1-646-568-7788\nMeeting ID: 836 2259 5947\nPasscode: 626122 \nClick to join via phone\computer \nJoin Zoom
URL:https://aa-district18.org/event/gsr-meeting-hybrid-19/
LOCATION:Central Service Office\, 409 Broadway Unit C-1\, South Roxana\, IL\, 62084\, United States
END:VEVENT
END:VCALENDAR