BEGIN:VCALENDAR
VERSION:2.0
PRODID:-//Alcoholics Anonymous District 18 Southern Illinois - ECPv6.15.20//NONSGML v1.0//EN
CALSCALE:GREGORIAN
METHOD:PUBLISH
X-ORIGINAL-URL:https://aa-district18.org
X-WR-CALDESC:Events for Alcoholics Anonymous District 18 Southern Illinois
REFRESH-INTERVAL;VALUE=DURATION:PT1H
X-Robots-Tag:noindex
X-PUBLISHED-TTL:PT1H
BEGIN:VTIMEZONE
TZID:America/Chicago
BEGIN:DAYLIGHT
TZOFFSETFROM:-0600
TZOFFSETTO:-0500
TZNAME:CDT
DTSTART:20250309T080000
END:DAYLIGHT
BEGIN:STANDARD
TZOFFSETFROM:-0500
TZOFFSETTO:-0600
TZNAME:CST
DTSTART:20251102T070000
END:STANDARD
BEGIN:DAYLIGHT
TZOFFSETFROM:-0600
TZOFFSETTO:-0500
TZNAME:CDT
DTSTART:20260308T080000
END:DAYLIGHT
BEGIN:STANDARD
TZOFFSETFROM:-0500
TZOFFSETTO:-0600
TZNAME:CST
DTSTART:20261101T070000
END:STANDARD
BEGIN:DAYLIGHT
TZOFFSETFROM:-0600
TZOFFSETTO:-0500
TZNAME:CDT
DTSTART:20270314T080000
END:DAYLIGHT
BEGIN:STANDARD
TZOFFSETFROM:-0500
TZOFFSETTO:-0600
TZNAME:CST
DTSTART:20271107T070000
END:STANDARD
END:VTIMEZONE
BEGIN:VEVENT
DTSTART;TZID=America/Chicago:20260426T140000
DTEND;TZID=America/Chicago:20260426T150000
DTSTAMP:20260424T104811
CREATED:20260315T195052Z
LAST-MODIFIED:20260315T195052Z
UID:5184-1777212000-1777215600@aa-district18.org
SUMMARY:GSR Workshop
DESCRIPTION:GSR Workshop \nHost-Paula E. \nRefreshments Provided
URL:https://aa-district18.org/event/gsr-workshop/
LOCATION:Central Service Office\, 409 Broadway Unit C-1\, South Roxana\, IL\, 62084\, United States
END:VEVENT
END:VCALENDAR