BEGIN:VCALENDAR
VERSION:2.0
PRODID:-//Alcoholics Anonymous District 18 Southern Illinois - ECPv6.15.20//NONSGML v1.0//EN
CALSCALE:GREGORIAN
METHOD:PUBLISH
X-WR-CALNAME:Alcoholics Anonymous District 18 Southern Illinois
X-ORIGINAL-URL:https://aa-district18.org
X-WR-CALDESC:Events for Alcoholics Anonymous District 18 Southern Illinois
REFRESH-INTERVAL;VALUE=DURATION:PT1H
X-Robots-Tag:noindex
X-PUBLISHED-TTL:PT1H
BEGIN:VTIMEZONE
TZID:America/Chicago
BEGIN:DAYLIGHT
TZOFFSETFROM:-0600
TZOFFSETTO:-0500
TZNAME:CDT
DTSTART:20250309T080000
END:DAYLIGHT
BEGIN:STANDARD
TZOFFSETFROM:-0500
TZOFFSETTO:-0600
TZNAME:CST
DTSTART:20251102T070000
END:STANDARD
BEGIN:DAYLIGHT
TZOFFSETFROM:-0600
TZOFFSETTO:-0500
TZNAME:CDT
DTSTART:20260308T080000
END:DAYLIGHT
BEGIN:STANDARD
TZOFFSETFROM:-0500
TZOFFSETTO:-0600
TZNAME:CST
DTSTART:20261101T070000
END:STANDARD
BEGIN:DAYLIGHT
TZOFFSETFROM:-0600
TZOFFSETTO:-0500
TZNAME:CDT
DTSTART:20270314T080000
END:DAYLIGHT
BEGIN:STANDARD
TZOFFSETFROM:-0500
TZOFFSETTO:-0600
TZNAME:CST
DTSTART:20271107T070000
END:STANDARD
END:VTIMEZONE
BEGIN:VEVENT
DTSTART;TZID=America/Chicago:20260411T090000
DTEND;TZID=America/Chicago:20260411T150000
DTSTAMP:20260424T111252
CREATED:20260203T170257Z
LAST-MODIFIED:20260203T170257Z
UID:5130-1775898000-1775919600@aa-district18.org
SUMMARY:2026 Southern IL Area 21 Pre-GSC Workshop
DESCRIPTION:Click for Flyer
URL:https://aa-district18.org/event/2026-southern-il-area-21-pre-gsc-workshop/
LOCATION:Hickory Point Township Hall\, 2335 W. Mound Road\, Decatur\, IL\, 62526\, United States
ATTACH;FMTTYPE=image/png:https://aa-district18.org/wp-content/uploads/2026/02/2026-Pre-GSC-Workshop.png
END:VEVENT
BEGIN:VEVENT
DTSTART;TZID=America/Chicago:20260411T090000
DTEND;TZID=America/Chicago:20260411T150000
DTSTAMP:20260424T111252
CREATED:20260315T191511Z
LAST-MODIFIED:20260315T191511Z
UID:5168-1775898000-1775919600@aa-district18.org
SUMMARY:Area 21 2026 PRE-GSC WORKSHOP
DESCRIPTION:
URL:https://aa-district18.org/event/area-21-2026-pre-gsc-workshop/
LOCATION:Hickory Point Township Hall\, 2335 W. Mound Road\, Decatur\, IL\, 62526\, United States
ATTACH;FMTTYPE=image/png:https://aa-district18.org/wp-content/uploads/2026/03/2026-Pre-GSC-Workshop.png
END:VEVENT
END:VCALENDAR