BEGIN:VCALENDAR
VERSION:2.0
PRODID:-//Alcoholics Anonymous District 18 Southern Illinois - ECPv6.15.20//NONSGML v1.0//EN
CALSCALE:GREGORIAN
METHOD:PUBLISH
X-WR-CALNAME:Alcoholics Anonymous District 18 Southern Illinois
X-ORIGINAL-URL:https://aa-district18.org
X-WR-CALDESC:Events for Alcoholics Anonymous District 18 Southern Illinois
REFRESH-INTERVAL;VALUE=DURATION:PT1H
X-Robots-Tag:noindex
X-PUBLISHED-TTL:PT1H
BEGIN:VTIMEZONE
TZID:America/Chicago
BEGIN:DAYLIGHT
TZOFFSETFROM:-0600
TZOFFSETTO:-0500
TZNAME:CDT
DTSTART:20250309T080000
END:DAYLIGHT
BEGIN:STANDARD
TZOFFSETFROM:-0500
TZOFFSETTO:-0600
TZNAME:CST
DTSTART:20251102T070000
END:STANDARD
BEGIN:DAYLIGHT
TZOFFSETFROM:-0600
TZOFFSETTO:-0500
TZNAME:CDT
DTSTART:20260308T080000
END:DAYLIGHT
BEGIN:STANDARD
TZOFFSETFROM:-0500
TZOFFSETTO:-0600
TZNAME:CST
DTSTART:20261101T070000
END:STANDARD
BEGIN:DAYLIGHT
TZOFFSETFROM:-0600
TZOFFSETTO:-0500
TZNAME:CDT
DTSTART:20270314T080000
END:DAYLIGHT
BEGIN:STANDARD
TZOFFSETFROM:-0500
TZOFFSETTO:-0600
TZNAME:CST
DTSTART:20271107T070000
END:STANDARD
END:VTIMEZONE
BEGIN:VEVENT
DTSTART;VALUE=DATE:20260327
DTEND;VALUE=DATE:20260330
DTSTAMP:20260424T104902
CREATED:20260122T011008Z
LAST-MODIFIED:20260122T011008Z
UID:5084-1774569600-1774828799@aa-district18.org
SUMMARY:31st Annual Circle of Unity Conference
DESCRIPTION:Click for Flyer
URL:https://aa-district18.org/event/31st-annual-circle-of-unity-conference/
LOCATION:The Encore\, 3080 Bagnell Dam Blvd\, Lake Ozark\, MO\, 65049\, United States
ATTACH;FMTTYPE=image/png:https://aa-district18.org/wp-content/uploads/2026/01/Circle-of-Unity.png
END:VEVENT
BEGIN:VEVENT
DTSTART;TZID=America/Chicago:20260329T090000
DTEND;TZID=America/Chicago:20260329T123000
DTSTAMP:20260424T104902
CREATED:20260123T151740Z
LAST-MODIFIED:20260123T151740Z
UID:5092-1774774800-1774787400@aa-district18.org
SUMMARY:Bloom Where You're Planted Women's Brunch
DESCRIPTION:Click for Flyer
URL:https://aa-district18.org/event/bloom-where-youre-planted-womens-brunch/
LOCATION:Bellecourt Manor\, 225 East A Street\, Belleville\, IL\, 62220\, United States
ATTACH;FMTTYPE=image/png:https://aa-district18.org/wp-content/uploads/2026/01/BloomWPlanted-2026.png
END:VEVENT
BEGIN:VEVENT
DTSTART;TZID=America/Chicago:20260329T190000
DTEND;TZID=America/Chicago:20260329T203000
DTSTAMP:20260424T104902
CREATED:20260321T204927Z
LAST-MODIFIED:20260321T204927Z
UID:5189-1774810800-1774816200@aa-district18.org
SUMMARY:Sunday Night Growth Group Present "12 Traditions Skit"
DESCRIPTION:Sunday Night Growth Group Present “12 Traditions Skit” \nInteresting \nInformative \nHumorous \n  \nOpen Meeting 3-29-26 7 pm
URL:https://aa-district18.org/event/sunday-night-growth-group-present-12-traditions-skit/
LOCATION:St. Paul United Church of Christ\, 3277 Bluff Road\, Edwardsville\, IL\, United States
END:VEVENT
END:VCALENDAR